BEGIN:VCALENDAR
VERSION:2.0
PRODID:-//eventon.com NONSGML v1.0//EN
CALSCALE:GREGORIAN
METHOD:PUBLISH
BEGIN:VEVENT
UID:69e541b243072
DTSTAMP:20260419T205722Z
DTSTART:20260128T230000Z
DTEND:20260129T020000Z
LOCATION:Carpenter&#039;s Union Hall\,  Second Floor 156 W Granite St
SUMMARY:SNöFLINGA Flashlight Lantern Torch Workshop
DESCRIPTION:Make your own flashlight lantern torch to use during the SNöFL
 INGA Enchanting Winter Gathering! Lanterns can be carried along the lighted
  trails or used to join in IlluminDance\,  helping create a more artful\,  
 glowing\,  site-specific experience. Workshop details: Takes approximately 
 15–20 minutes to make one lantern Drop in anytime between[..]\nhttps://sn
 oflinga.org/events/snoflinga-flashlight-lantern-torch-workshop/
URL:https://snoflinga.org/events/snoflinga-flashlight-lantern-torch-workshop/
END:VEVENT
END:VCALENDAR