BEGIN:VCALENDAR
VERSION:2.0
PRODID:-//eventon.com NONSGML v1.0//EN
CALSCALE:GREGORIAN
METHOD:PUBLISH
BEGIN:VEVENT
UID:69e4ff56b52c3
DTSTAMP:20260419T161414Z
DTSTART:20260131T160000Z
DTEND:20260131T230000Z
LOCATION:Homestake Lodge
SUMMARY:SNöFLINGA Open Ski at Homestake Lodge
DESCRIPTION:Enjoy FREE cross-country skiing at Homestake Lodge during SNöF
 LINGA! Check in at the lodge before hitting the trails—no trail pass fees
  are required. Please bring your own equipment. Lunch and other treats will
  also be available at the lodge.\nhttps://snoflinga.org/events/snoflinga-op
 en-ski-at-homestake-lodge/
URL:https://snoflinga.org/events/snoflinga-open-ski-at-homestake-lodge/
END:VEVENT
END:VCALENDAR